BEGIN:VCALENDAR
VERSION:2.0
PRODID:-//Sabre//Sabre VObject 4.5.8//EN
CALSCALE:GREGORIAN
BEGIN:VEVENT
UID:sabre-vobject-7dda8338-e586-419a-9622-0f72584efaf2
DTSTAMP:20260424T204953Z
SUMMARY:2026 Bubble Guppies
DESCRIPTION:
X-ALT-DESC:FMTTYPE=text/html:<!DOCTYPE HTML PUBLIC "-//W3C//DTD HTML 3.2//E
 N"><HTML></HTML>
CREATED;TZID=America/Chicago:20251114T132524
URL;VALUE=URI:https://riley.armymwr.com/calendar/event
DTSTART;TZID=America/Chicago:20260110T120000
DTEND;TZID=America/Chicago:20260110T130000
SEQUENCE:0
END:VEVENT
BEGIN:VEVENT
UID:sabre-vobject-d653b60f-ce96-4cbc-8206-3bdae8d961da
DTSTAMP:20260424T204953Z
SUMMARY:2026 Bubble Guppies
DESCRIPTION:
X-ALT-DESC:FMTTYPE=text/html:<!DOCTYPE HTML PUBLIC "-//W3C//DTD HTML 3.2//E
 N"><HTML></HTML>
CREATED;TZID=America/Chicago:20251114T132524
URL;VALUE=URI:https://riley.armymwr.com/calendar/event
DTSTART;TZID=America/Chicago:20260214T120000
DTEND;TZID=America/Chicago:20260214T130000
SEQUENCE:1
END:VEVENT
BEGIN:VEVENT
UID:sabre-vobject-f7160391-e7b7-42ae-9e10-e47e48ded023
DTSTAMP:20260424T204953Z
SUMMARY:2026 Bubble Guppies
DESCRIPTION:
X-ALT-DESC:FMTTYPE=text/html:<!DOCTYPE HTML PUBLIC "-//W3C//DTD HTML 3.2//E
 N"><HTML></HTML>
CREATED;TZID=America/Chicago:20251114T132524
URL;VALUE=URI:https://riley.armymwr.com/calendar/event
DTSTART;TZID=America/Chicago:20260314T120000
DTEND;TZID=America/Chicago:20260314T130000
SEQUENCE:2
END:VEVENT
BEGIN:VEVENT
UID:sabre-vobject-73b84065-8207-4a07-99e1-5088b8d9ae27
DTSTAMP:20260424T204953Z
SUMMARY:2026 Bubble Guppies
DESCRIPTION:
X-ALT-DESC:FMTTYPE=text/html:<!DOCTYPE HTML PUBLIC "-//W3C//DTD HTML 3.2//E
 N"><HTML></HTML>
CREATED;TZID=America/Chicago:20251114T132524
URL;VALUE=URI:https://riley.armymwr.com/calendar/event
DTSTART;TZID=America/Chicago:20260411T120000
DTEND;TZID=America/Chicago:20260411T130000
SEQUENCE:3
END:VEVENT
BEGIN:VEVENT
UID:sabre-vobject-fc2a92bb-5fdf-48b9-850c-87b95ad98333
DTSTAMP:20260424T204953Z
SUMMARY:2026 Bubble Guppies
DESCRIPTION:
X-ALT-DESC:FMTTYPE=text/html:<!DOCTYPE HTML PUBLIC "-//W3C//DTD HTML 3.2//E
 N"><HTML></HTML>
CREATED;TZID=America/Chicago:20251114T132524
URL;VALUE=URI:https://riley.armymwr.com/calendar/event
DTSTART;TZID=America/Chicago:20260509T120000
DTEND;TZID=America/Chicago:20260509T130000
SEQUENCE:4
END:VEVENT
BEGIN:VEVENT
UID:sabre-vobject-52bb3734-6339-408c-953a-0f2420aaf2a9
DTSTAMP:20260424T204953Z
SUMMARY:2026 Bubble Guppies
DESCRIPTION:
X-ALT-DESC:FMTTYPE=text/html:<!DOCTYPE HTML PUBLIC "-//W3C//DTD HTML 3.2//E
 N"><HTML></HTML>
CREATED;TZID=America/Chicago:20251114T132524
URL;VALUE=URI:https://riley.armymwr.com/calendar/event
DTSTART;TZID=America/Chicago:20260613T120000
DTEND;TZID=America/Chicago:20260613T130000
SEQUENCE:5
END:VEVENT
BEGIN:VEVENT
UID:sabre-vobject-b3a0e91c-243c-4bb1-bee2-453b0ac76584
DTSTAMP:20260424T204953Z
SUMMARY:2026 Bubble Guppies
DESCRIPTION:
X-ALT-DESC:FMTTYPE=text/html:<!DOCTYPE HTML PUBLIC "-//W3C//DTD HTML 3.2//E
 N"><HTML></HTML>
CREATED;TZID=America/Chicago:20251114T132524
URL;VALUE=URI:https://riley.armymwr.com/calendar/event
DTSTART;TZID=America/Chicago:20260711T120000
DTEND;TZID=America/Chicago:20260711T130000
SEQUENCE:6
END:VEVENT
BEGIN:VEVENT
UID:sabre-vobject-f99b46bb-36fd-4aa0-866d-21b27f17ff64
DTSTAMP:20260424T204953Z
SUMMARY:2026 Bubble Guppies
DESCRIPTION:
X-ALT-DESC:FMTTYPE=text/html:<!DOCTYPE HTML PUBLIC "-//W3C//DTD HTML 3.2//E
 N"><HTML></HTML>
CREATED;TZID=America/Chicago:20251114T132524
URL;VALUE=URI:https://riley.armymwr.com/calendar/event
DTSTART;TZID=America/Chicago:20260808T120000
DTEND;TZID=America/Chicago:20260808T130000
SEQUENCE:7
END:VEVENT
BEGIN:VEVENT
UID:sabre-vobject-0ee42f31-37d2-4ae5-962d-f4abe83b96cc
DTSTAMP:20260424T204953Z
SUMMARY:2026 Bubble Guppies
DESCRIPTION:
X-ALT-DESC:FMTTYPE=text/html:<!DOCTYPE HTML PUBLIC "-//W3C//DTD HTML 3.2//E
 N"><HTML></HTML>
CREATED;TZID=America/Chicago:20251114T132524
URL;VALUE=URI:https://riley.armymwr.com/calendar/event
DTSTART;TZID=America/Chicago:20260912T120000
DTEND;TZID=America/Chicago:20260912T130000
SEQUENCE:8
END:VEVENT
BEGIN:VEVENT
UID:sabre-vobject-2b91d038-726e-4c2b-a849-5b9b7e90ba20
DTSTAMP:20260424T204953Z
SUMMARY:2026 Bubble Guppies
DESCRIPTION:
X-ALT-DESC:FMTTYPE=text/html:<!DOCTYPE HTML PUBLIC "-//W3C//DTD HTML 3.2//E
 N"><HTML></HTML>
CREATED;TZID=America/Chicago:20251114T132524
URL;VALUE=URI:https://riley.armymwr.com/calendar/event
DTSTART;TZID=America/Chicago:20261010T120000
DTEND;TZID=America/Chicago:20261010T130000
SEQUENCE:9
END:VEVENT
BEGIN:VEVENT
UID:sabre-vobject-49d915de-7089-4f52-ab66-30635e503668
DTSTAMP:20260424T204953Z
SUMMARY:2026 Bubble Guppies
DESCRIPTION:
X-ALT-DESC:FMTTYPE=text/html:<!DOCTYPE HTML PUBLIC "-//W3C//DTD HTML 3.2//E
 N"><HTML></HTML>
CREATED;TZID=America/Chicago:20251114T132524
URL;VALUE=URI:https://riley.armymwr.com/calendar/event
DTSTART;TZID=America/Chicago:20261114T120000
DTEND;TZID=America/Chicago:20261114T130000
SEQUENCE:10
END:VEVENT
BEGIN:VEVENT
UID:sabre-vobject-64537e35-8cb0-4c4b-bd68-86ab3723c24e
DTSTAMP:20260424T204953Z
SUMMARY:2026 Bubble Guppies
DESCRIPTION:
X-ALT-DESC:FMTTYPE=text/html:<!DOCTYPE HTML PUBLIC "-//W3C//DTD HTML 3.2//E
 N"><HTML></HTML>
CREATED;TZID=America/Chicago:20251114T132524
URL;VALUE=URI:https://riley.armymwr.com/calendar/event
DTSTART;TZID=America/Chicago:20261212T120000
DTEND;TZID=America/Chicago:20261212T130000
SEQUENCE:11
END:VEVENT
END:VCALENDAR
