BEGIN:VCALENDAR
VERSION:2.0
PRODID:-//Sabre//Sabre VObject 4.5.8//EN
CALSCALE:GREGORIAN
BEGIN:VEVENT
UID:sabre-vobject-fc4a21fe-5ea1-4a59-b5b2-5df1425bc9f6
DTSTAMP:20260425T222603Z
SUMMARY:Pokemix  Social
DESCRIPTION:
X-ALT-DESC:FMTTYPE=text/html:<!DOCTYPE HTML PUBLIC "-//W3C//DTD HTML 3.2//E
 N"><HTML></HTML>
CREATED;TZID=America/Chicago:20260114T150742
URL;VALUE=URI:https://riley.armymwr.com/calendar/event
DTSTART;TZID=America/Chicago:20260215T130000
DTEND;TZID=America/Chicago:20260215T160000
SEQUENCE:0
END:VEVENT
BEGIN:VEVENT
UID:sabre-vobject-0ada8096-8716-43b5-a2c4-30ff9681f300
DTSTAMP:20260425T222603Z
SUMMARY:Pokemix  Social
DESCRIPTION:
X-ALT-DESC:FMTTYPE=text/html:<!DOCTYPE HTML PUBLIC "-//W3C//DTD HTML 3.2//E
 N"><HTML></HTML>
CREATED;TZID=America/Chicago:20260114T150742
URL;VALUE=URI:https://riley.armymwr.com/calendar/event
DTSTART;TZID=America/Chicago:20260315T130000
DTEND;TZID=America/Chicago:20260315T160000
SEQUENCE:1
END:VEVENT
BEGIN:VEVENT
UID:sabre-vobject-dbc1df65-165c-43d6-a952-a3606390c9ef
DTSTAMP:20260425T222603Z
SUMMARY:Pokemix  Social
DESCRIPTION:
X-ALT-DESC:FMTTYPE=text/html:<!DOCTYPE HTML PUBLIC "-//W3C//DTD HTML 3.2//E
 N"><HTML></HTML>
CREATED;TZID=America/Chicago:20260114T150742
URL;VALUE=URI:https://riley.armymwr.com/calendar/event
DTSTART;TZID=America/Chicago:20260419T130000
DTEND;TZID=America/Chicago:20260419T160000
SEQUENCE:2
END:VEVENT
END:VCALENDAR
