BEGIN:VCALENDAR
VERSION:2.0
PRODID:-//Sabre//Sabre VObject 4.5.8//EN
CALSCALE:GREGORIAN
BEGIN:VEVENT
UID:sabre-vobject-de9a211b-1d74-4ecb-9c6e-78eca613192f
DTSTAMP:20260424T011039Z
SUMMARY:Wiggles & Giggles
DESCRIPTION:
X-ALT-DESC:FMTTYPE=text/html:<!DOCTYPE HTML PUBLIC "-//W3C//DTD HTML 3.2//E
 N"><HTML></HTML>
CREATED;TZID=America/Chicago:20260227T171212
URL;VALUE=URI:https://riley.armymwr.com/calendar/event
DTSTART;TZID=America/Chicago:20260127T113000
DTEND;TZID=America/Chicago:20260127T121500
SEQUENCE:0
END:VEVENT
END:VCALENDAR
