BEGIN:VCALENDAR
VERSION:2.0
PRODID:-//Sabre//Sabre VObject 4.5.8//EN
CALSCALE:GREGORIAN
BEGIN:VEVENT
UID:sabre-vobject-10f51ffa-0848-4c64-9581-1edf38c8a4d3
DTSTAMP:20260422T141004Z
SUMMARY:LIfeguard Certification
DESCRIPTION:Class 1: March 28\, 29 &amp\; April 4 | 9am-5pm\n\nClass 2: Apr
 il 25\, 26\, May 2 &amp\; 3 | 9am-5pm\n
X-ALT-DESC:FMTTYPE=text/html:<!DOCTYPE HTML PUBLIC "-//W3C//DTD HTML 3.2//E
 N"><HTML><p>Class 1: March 28\, 29 &amp\; April 4 | 9am-5pm</p>\n\n<p>Clas
 s 2: April 25\, 26\, May 2 &amp\; 3 | 9am-5pm</p>\n</HTML>
CREATED;TZID=America/Chicago:20260223T085541
URL;VALUE=URI:https://riley.armymwr.com/calendar/event
DTSTART;TZID=America/Chicago:20260328T090000
DTEND;TZID=America/Chicago:20260328T170000
SEQUENCE:0
END:VEVENT
BEGIN:VEVENT
UID:sabre-vobject-8c333efe-ada2-4c6e-9552-6a14679d2812
DTSTAMP:20260422T141004Z
SUMMARY:LIfeguard Certification
DESCRIPTION:Class 1: March 28\, 29 &amp\; April 4 | 9am-5pm\n\nClass 2: Apr
 il 25\, 26\, May 2 &amp\; 3 | 9am-5pm\n
X-ALT-DESC:FMTTYPE=text/html:<!DOCTYPE HTML PUBLIC "-//W3C//DTD HTML 3.2//E
 N"><HTML><p>Class 1: March 28\, 29 &amp\; April 4 | 9am-5pm</p>\n\n<p>Clas
 s 2: April 25\, 26\, May 2 &amp\; 3 | 9am-5pm</p>\n</HTML>
CREATED;TZID=America/Chicago:20260223T085541
URL;VALUE=URI:https://riley.armymwr.com/calendar/event
DTSTART;TZID=America/Chicago:20260425T090000
DTEND;TZID=America/Chicago:20260425T170000
SEQUENCE:1
END:VEVENT
END:VCALENDAR
