BEGIN:VCALENDAR
VERSION:2.0
PRODID:-//Sabre//Sabre VObject 4.5.8//EN
CALSCALE:GREGORIAN
BEGIN:VEVENT
UID:sabre-vobject-deb7b55e-5084-4501-bed7-edf0eb6af09c
DTSTAMP:20260425T164822Z
SUMMARY:Summer Break Family Fun at SpareTime
DESCRIPTION:May 22-Aug. 14: Ultimate Package Special!\n
X-ALT-DESC:FMTTYPE=text/html:<!DOCTYPE HTML PUBLIC "-//W3C//DTD HTML 3.2//E
 N"><HTML><p>May 22-Aug. 14: Ultimate Package Special!</p>\n</HTML>
CREATED;TZID=America/Chicago:20260420T133458
URL;VALUE=URI:https://riley.armymwr.com/calendar/event
DTSTART;TZID=America/Chicago:20260522T130000
DTEND;TZID=America/Chicago:20260522T140000
SEQUENCE:0
END:VEVENT
BEGIN:VEVENT
UID:sabre-vobject-8c501bab-83c3-46fe-b738-836809e1cd9c
DTSTAMP:20260425T164822Z
SUMMARY:Summer Break Family Fun at SpareTime
DESCRIPTION:May 22-Aug. 14: Ultimate Package Special!\n
X-ALT-DESC:FMTTYPE=text/html:<!DOCTYPE HTML PUBLIC "-//W3C//DTD HTML 3.2//E
 N"><HTML><p>May 22-Aug. 14: Ultimate Package Special!</p>\n</HTML>
CREATED;TZID=America/Chicago:20260420T133458
URL;VALUE=URI:https://riley.armymwr.com/calendar/event
DTSTART;TZID=America/Chicago:20260615T130000
DTEND;TZID=America/Chicago:20260615T140000
SEQUENCE:1
END:VEVENT
BEGIN:VEVENT
UID:sabre-vobject-9e72abd5-6a39-4cf6-9d91-10480a6f9c90
DTSTAMP:20260425T164822Z
SUMMARY:Summer Break Family Fun at SpareTime
DESCRIPTION:May 22-Aug. 14: Ultimate Package Special!\n
X-ALT-DESC:FMTTYPE=text/html:<!DOCTYPE HTML PUBLIC "-//W3C//DTD HTML 3.2//E
 N"><HTML><p>May 22-Aug. 14: Ultimate Package Special!</p>\n</HTML>
CREATED;TZID=America/Chicago:20260420T133458
URL;VALUE=URI:https://riley.armymwr.com/calendar/event
DTSTART;TZID=America/Chicago:20260713T130000
DTEND;TZID=America/Chicago:20260713T140000
SEQUENCE:2
END:VEVENT
BEGIN:VEVENT
UID:sabre-vobject-a15a8006-752c-4ce4-a786-2bb6ecce9fac
DTSTAMP:20260425T164822Z
SUMMARY:Summer Break Family Fun at SpareTime
DESCRIPTION:May 22-Aug. 14: Ultimate Package Special!\n
X-ALT-DESC:FMTTYPE=text/html:<!DOCTYPE HTML PUBLIC "-//W3C//DTD HTML 3.2//E
 N"><HTML><p>May 22-Aug. 14: Ultimate Package Special!</p>\n</HTML>
CREATED;TZID=America/Chicago:20260420T133458
URL;VALUE=URI:https://riley.armymwr.com/calendar/event
DTSTART;TZID=America/Chicago:20260803T130000
DTEND;TZID=America/Chicago:20260803T140000
SEQUENCE:3
END:VEVENT
END:VCALENDAR
