BEGIN:VCALENDAR
VERSION:2.0
PRODID:-//Sabre//Sabre VObject 4.5.8//EN
CALSCALE:GREGORIAN
BEGIN:VEVENT
UID:sabre-vobject-a5012ba4-74a0-4f3f-8b82-44e188fcd5fa
DTSTAMP:20260423T091134Z
SUMMARY:MWR Property Auction
DESCRIPTION:April 29-May 20\n
X-ALT-DESC:FMTTYPE=text/html:<!DOCTYPE HTML PUBLIC "-//W3C//DTD HTML 3.2//E
 N"><HTML><p>April 29-May 20</p>\n</HTML>
CREATED;TZID=America/Chicago:20260420T135023
URL;VALUE=URI:https://riley.armymwr.com/calendar/event
DTSTART;TZID=America/Chicago:20260429T133000
DTEND;TZID=America/Chicago:20260520T143000
SEQUENCE:0
END:VEVENT
END:VCALENDAR
