BEGIN:VCALENDAR
VERSION:2.0
PRODID:-//Sabre//Sabre VObject 4.5.8//EN
CALSCALE:GREGORIAN
BEGIN:VEVENT
UID:sabre-vobject-be16dd29-0ea2-453c-95a5-8033833d47ae
DTSTAMP:20260420T080526Z
SUMMARY:Hobby Studio Saturday Crafts
DESCRIPTION:Instructor lead craft projects for both children and adults. Mu
 st follow facility&#39\;s&nbsp\;current COVID-19 mitigations.&nbsp\;\n
X-ALT-DESC:FMTTYPE=text/html:<!DOCTYPE HTML PUBLIC "-//W3C//DTD HTML 3.2//E
 N"><HTML><p>Instructor lead craft projects for both children and adults. M
 ust follow facility&#39\;s&nbsp\;current COVID-19 mitigations.&nbsp\;</p>\
 n</HTML>
CREATED;TZID=America/Chicago:20220121T174215
URL;VALUE=URI:https://riley.armymwr.com/calendar/event
DTSTART;TZID=America/Chicago:20220108T110000
DTEND;TZID=America/Chicago:20220108T180000
SEQUENCE:0
END:VEVENT
BEGIN:VEVENT
UID:sabre-vobject-e5c16aa0-98c4-4544-9e43-0045408dbba5
DTSTAMP:20260420T080526Z
SUMMARY:Hobby Studio Saturday Crafts
DESCRIPTION:Instructor lead craft projects for both children and adults. Mu
 st follow facility&#39\;s&nbsp\;current COVID-19 mitigations.&nbsp\;\n
X-ALT-DESC:FMTTYPE=text/html:<!DOCTYPE HTML PUBLIC "-//W3C//DTD HTML 3.2//E
 N"><HTML><p>Instructor lead craft projects for both children and adults. M
 ust follow facility&#39\;s&nbsp\;current COVID-19 mitigations.&nbsp\;</p>\
 n</HTML>
CREATED;TZID=America/Chicago:20220121T174215
URL;VALUE=URI:https://riley.armymwr.com/calendar/event
DTSTART;TZID=America/Chicago:20220115T160000
DTEND;TZID=America/Chicago:20220115T180000
SEQUENCE:1
END:VEVENT
BEGIN:VEVENT
UID:sabre-vobject-f998eef1-2902-4db4-b7aa-461318bd46f3
DTSTAMP:20260420T080526Z
SUMMARY:Hobby Studio Saturday Crafts
DESCRIPTION:Instructor lead craft projects for both children and adults. Mu
 st follow facility&#39\;s&nbsp\;current COVID-19 mitigations.&nbsp\;\n
X-ALT-DESC:FMTTYPE=text/html:<!DOCTYPE HTML PUBLIC "-//W3C//DTD HTML 3.2//E
 N"><HTML><p>Instructor lead craft projects for both children and adults. M
 ust follow facility&#39\;s&nbsp\;current COVID-19 mitigations.&nbsp\;</p>\
 n</HTML>
CREATED;TZID=America/Chicago:20220121T174215
URL;VALUE=URI:https://riley.armymwr.com/calendar/event
DTSTART;TZID=America/Chicago:20220129T160000
DTEND;TZID=America/Chicago:20220129T180000
SEQUENCE:2
END:VEVENT
END:VCALENDAR
