BEGIN:VCALENDAR
VERSION:2.0
PRODID:-//Sabre//Sabre VObject 4.5.8//EN
CALSCALE:GREGORIAN
BEGIN:VEVENT
UID:sabre-vobject-4c2a032a-730a-4747-9129-b573a32a559e
DTSTAMP:20260420T063205Z
SUMMARY:Winter Wonderland Mash Up
DESCRIPTION:
X-ALT-DESC:FMTTYPE=text/html:<!DOCTYPE HTML PUBLIC "-//W3C//DTD HTML 3.2//E
 N"><HTML></HTML>
CREATED;TZID=America/Chicago:20220201T085928
URL;VALUE=URI:https://riley.armymwr.com/calendar/event
DTSTART;TZID=America/Chicago:20220205T130000
DTEND;TZID=America/Chicago:20220205T150000
SEQUENCE:0
END:VEVENT
BEGIN:VEVENT
UID:sabre-vobject-3d2735e3-11a4-4b57-a841-848dbfc458b2
DTSTAMP:20260420T063205Z
SUMMARY:Winter Wonderland Mash Up
DESCRIPTION:
X-ALT-DESC:FMTTYPE=text/html:<!DOCTYPE HTML PUBLIC "-//W3C//DTD HTML 3.2//E
 N"><HTML></HTML>
CREATED;TZID=America/Chicago:20220201T085928
URL;VALUE=URI:https://riley.armymwr.com/calendar/event
DTSTART;TZID=America/Chicago:20220205T153000
DTEND;TZID=America/Chicago:20220205T173000
SEQUENCE:1
END:VEVENT
END:VCALENDAR
