BEGIN:VCALENDAR
VERSION:2.0
PRODID:-//Sabre//Sabre VObject 4.5.8//EN
CALSCALE:GREGORIAN
BEGIN:VEVENT
UID:sabre-vobject-9d08ab40-25ee-4d84-8a1e-7f880a108de0
DTSTAMP:20260420T025331Z
SUMMARY:SpareTime Bowl Sunday
DESCRIPTION:
X-ALT-DESC:FMTTYPE=text/html:<!DOCTYPE HTML PUBLIC "-//W3C//DTD HTML 3.2//E
 N"><HTML></HTML>
CREATED;TZID=America/Chicago:20220204T161716
URL;VALUE=URI:https://riley.armymwr.com/calendar/event
DTSTART;TZID=America/Chicago:20220213T150000
DTEND;TZID=America/Chicago:20220213T210000
SEQUENCE:0
END:VEVENT
END:VCALENDAR
