BEGIN:VCALENDAR
VERSION:2.0
PRODID:-//Sabre//Sabre VObject 4.5.8//EN
CALSCALE:GREGORIAN
BEGIN:VEVENT
UID:sabre-vobject-d8906e6f-e00b-4fc7-9f04-0d81ea4ba7dc
DTSTAMP:20260419T194756Z
SUMMARY:Hobby Studio Saturday Crafts
DESCRIPTION:
X-ALT-DESC:FMTTYPE=text/html:<!DOCTYPE HTML PUBLIC "-//W3C//DTD HTML 3.2//E
 N"><HTML></HTML>
CREATED;TZID=America/Chicago:20220204T162942
URL;VALUE=URI:https://riley.armymwr.com/calendar/event
DTSTART;TZID=America/Chicago:20220205T110000
DTEND;TZID=America/Chicago:20220205T180000
SEQUENCE:0
END:VEVENT
BEGIN:VEVENT
UID:sabre-vobject-237bdb18-24a1-4848-b4b2-878a0fafb549
DTSTAMP:20260419T194756Z
SUMMARY:Hobby Studio Saturday Crafts
DESCRIPTION:
X-ALT-DESC:FMTTYPE=text/html:<!DOCTYPE HTML PUBLIC "-//W3C//DTD HTML 3.2//E
 N"><HTML></HTML>
CREATED;TZID=America/Chicago:20220204T162942
URL;VALUE=URI:https://riley.armymwr.com/calendar/event
DTSTART;TZID=America/Chicago:20220212T110000
DTEND;TZID=America/Chicago:20220212T180000
SEQUENCE:1
END:VEVENT
BEGIN:VEVENT
UID:sabre-vobject-28263f63-75f5-4233-9b24-d14ee89790f6
DTSTAMP:20260419T194756Z
SUMMARY:Hobby Studio Saturday Crafts
DESCRIPTION:
X-ALT-DESC:FMTTYPE=text/html:<!DOCTYPE HTML PUBLIC "-//W3C//DTD HTML 3.2//E
 N"><HTML></HTML>
CREATED;TZID=America/Chicago:20220204T162942
URL;VALUE=URI:https://riley.armymwr.com/calendar/event
DTSTART;TZID=America/Chicago:20220219T110000
DTEND;TZID=America/Chicago:20220219T180000
SEQUENCE:2
END:VEVENT
BEGIN:VEVENT
UID:sabre-vobject-2ac69b2f-7877-4558-abc6-8cca6176767a
DTSTAMP:20260419T194756Z
SUMMARY:Hobby Studio Saturday Crafts
DESCRIPTION:
X-ALT-DESC:FMTTYPE=text/html:<!DOCTYPE HTML PUBLIC "-//W3C//DTD HTML 3.2//E
 N"><HTML></HTML>
CREATED;TZID=America/Chicago:20220204T162942
URL;VALUE=URI:https://riley.armymwr.com/calendar/event
DTSTART;TZID=America/Chicago:20220226T110000
DTEND;TZID=America/Chicago:20220226T180000
SEQUENCE:3
END:VEVENT
END:VCALENDAR
