BEGIN:VCALENDAR
VERSION:2.0
PRODID:-//Sabre//Sabre VObject 4.5.8//EN
CALSCALE:GREGORIAN
BEGIN:VEVENT
UID:sabre-vobject-62be87ea-de5e-4028-a12f-430388eabc9b
DTSTAMP:20260420T043741Z
SUMMARY:Adult Intramural Volleyball League Registration
DESCRIPTION:
X-ALT-DESC:FMTTYPE=text/html:<!DOCTYPE HTML PUBLIC "-//W3C//DTD HTML 3.2//E
 N"><HTML></HTML>
CREATED;TZID=America/Chicago:20220223T134539
URL;VALUE=URI:https://riley.armymwr.com/calendar/event
DTSTART;TZID=America/Chicago:20220223T000000
DTEND;TZID=America/Chicago:20220327T235959
SEQUENCE:0
END:VEVENT
END:VCALENDAR
