BEGIN:VCALENDAR
VERSION:2.0
PRODID:-//Sabre//Sabre VObject 4.5.8//EN
CALSCALE:GREGORIAN
BEGIN:VEVENT
UID:sabre-vobject-cc25880a-e114-4ce3-bbdd-f321fc3d62ac
DTSTAMP:20260419T120014Z
SUMMARY:St. Patrick's Day at the Library
DESCRIPTION:
X-ALT-DESC:FMTTYPE=text/html:<!DOCTYPE HTML PUBLIC "-//W3C//DTD HTML 3.2//E
 N"><HTML></HTML>
CREATED;TZID=America/Chicago:20220225T113528
URL;VALUE=URI:https://riley.armymwr.com/calendar/event
DTSTART;TZID=America/Chicago:20220312T130000
DTEND;TZID=America/Chicago:20220312T150000
SEQUENCE:0
END:VEVENT
END:VCALENDAR
